BEGIN:VCALENDAR
VERSION:2.0
PRODID:-//LifeSavers Network Vendor - ECPv5.3.1.1//NONSGML v1.0//EN
CALSCALE:GREGORIAN
METHOD:PUBLISH
X-WR-CALNAME:LifeSavers Network Vendor
X-ORIGINAL-URL:https://tristatetraining.lifesaversnetwork.com
X-WR-CALDESC:Events for LifeSavers Network Vendor
BEGIN:VTIMEZONE
TZID:America/New_York
BEGIN:DAYLIGHT
TZOFFSETFROM:-0500
TZOFFSETTO:-0400
TZNAME:EDT
DTSTART:20260308T070000
END:DAYLIGHT
BEGIN:STANDARD
TZOFFSETFROM:-0400
TZOFFSETTO:-0500
TZNAME:EST
DTSTART:20261101T060000
END:STANDARD
END:VTIMEZONE
BEGIN:VEVENT
DTSTART;TZID=America/New_York:20260401T080000
DTEND;TZID=America/New_York:20260401T100000
DTSTAMP:20260422T062220
CREATED:20260214T005119Z
LAST-MODIFIED:20260214T005119Z
UID:11049-1775030400-1775037600@tristatetraining.lifesaversnetwork.com
SUMMARY:AHA- BLS Provider RENEWAL Course / 340504
DESCRIPTION:The BLS Provider course covers core material such as adult and pediatric CPR (including two-rescuer scenarios and use of the bag mask)\, foreign-body airway obstruction and automated external defibrillation. This course is for healthcare providers such as EMS personnel\, physician assistants\, doctors\, dentists\, nurses\, respiratory therapists\, and lifeguards who must have a credential (card) documenting successful completion of a Healthcare Provider CPR course. The AHAâ€™s new BLS Course has been updated to include science and education from the 2020 Guidelines Update for CPR and ECC. It teaches both single-rescuer and team basic life support skills for application in both prehospital and in-facility environments\, with a focus on high-quality CPR and team dynamics. The course replaces the BLS for Healthcare Providers course. \n-TWO YEAR CERTIFICATION \n-Course Length: Approx 2 Hours
URL:https://tristatetraining.lifesaversnetwork.com/event/aha-bls-provider-renewal-course-340504/
LOCATION:Tri-State Training – Ridley Ave\, 228 Ridley Ave\, Folsom\, PA\, 19033\, United States
END:VEVENT
BEGIN:VEVENT
DTSTART;TZID=America/New_York:20260401T110000
DTEND;TZID=America/New_York:20260401T140000
DTSTAMP:20260422T062220
CREATED:20260214T005237Z
LAST-MODIFIED:20260214T005237Z
UID:11051-1775041200-1775052000@tristatetraining.lifesaversnetwork.com
SUMMARY:AHA- BLS Provider (2025 Guidelines) / 340505
DESCRIPTION:The American Heart Association’s BLS course trains participants to promptly recognize several life-threatening emergencies\, give high-quality chest compressions\, deliver appropriate breaths and ventilations\, and provide early use of an AED. The course reflects science and education from the 2025 American Heart Association Guidelines for CPR and Emergency Cardiovascular Care (ECC). The course replaces the BLS Provider 2020 version. \nThe BLS Provider Course is designed for healthcare professionals and trained first responders who provide care to patients in a wide variety of settings\, as well as individuals enrolled in a healthcare training program. Upon successful completion of the course\, students receive a course completion eCard\, valid for two years. Please contact your employer to ensure that you are selecting the correct course. \n-TWO YEAR CERTIFICATION \nCourse Length: Approx 3-4 Hours
URL:https://tristatetraining.lifesaversnetwork.com/event/aha-bls-provider-2025-guidelines-340505/
LOCATION:Tri-State Training – Ridley Ave\, 228 Ridley Ave\, Folsom\, PA\, 19033\, United States
END:VEVENT
BEGIN:VEVENT
DTSTART;TZID=America/New_York:20260403T133000
DTEND;TZID=America/New_York:20260403T153000
DTSTAMP:20260422T062220
CREATED:20260214T005350Z
LAST-MODIFIED:20260214T005350Z
UID:11054-1775223000-1775230200@tristatetraining.lifesaversnetwork.com
SUMMARY:AHA- BLS Provider RENEWAL Course / 340506
DESCRIPTION:The BLS Provider course covers core material such as adult and pediatric CPR (including two-rescuer scenarios and use of the bag mask)\, foreign-body airway obstruction and automated external defibrillation. This course is for healthcare providers such as EMS personnel\, physician assistants\, doctors\, dentists\, nurses\, respiratory therapists\, and lifeguards who must have a credential (card) documenting successful completion of a Healthcare Provider CPR course. The AHAâ€™s new BLS Course has been updated to include science and education from the 2020 Guidelines Update for CPR and ECC. It teaches both single-rescuer and team basic life support skills for application in both prehospital and in-facility environments\, with a focus on high-quality CPR and team dynamics. The course replaces the BLS for Healthcare Providers course. \n-TWO YEAR CERTIFICATION \n-Course Length: Approx 2 Hours
URL:https://tristatetraining.lifesaversnetwork.com/event/aha-bls-provider-renewal-course-340506/
LOCATION:Tri-State Training – Ridley Ave\, 228 Ridley Ave\, Folsom\, PA\, 19033\, United States
END:VEVENT
BEGIN:VEVENT
DTSTART;TZID=America/New_York:20260404T113000
DTEND;TZID=America/New_York:20260404T140000
DTSTAMP:20260422T062220
CREATED:20251223T172400Z
LAST-MODIFIED:20251223T172400Z
UID:10877-1775302200-1775311200@tristatetraining.lifesaversnetwork.com
SUMMARY:Tri-State Pediatric CPR/AED and First Aid / 338351
DESCRIPTION:This instructor-led course that teaches students critical skills needed to respond to and manage an emergency until emergency medical services arrives. Skills covered in this course include first aid; choking relief in children and infants; and what to do for sudden cardiac arrest in children and infants. \nThis course teaches skills with the AHAâ€™s research-proven practice-while-watching technique\, which allows instructors to observe the students\, provide feedback\, and guide the studentsâ€™ learning of skills. \n2 year certification via digital certification
URL:https://tristatetraining.lifesaversnetwork.com/event/tri-state-pediatric-cpr-aed-and-first-aid-338351/
LOCATION:Acclaim Academy – Germantown Ave\, 5615 Germantown Ave\, Philadelphia\, PA\, 19144\, United States
END:VEVENT
BEGIN:VEVENT
DTSTART;TZID=America/New_York:20260407T120000
DTEND;TZID=America/New_York:20260407T140000
DTSTAMP:20260422T062220
CREATED:20260214T005650Z
LAST-MODIFIED:20260214T005650Z
UID:11056-1775563200-1775570400@tristatetraining.lifesaversnetwork.com
SUMMARY:AHA- BLS Provider RENEWAL Course / 340507
DESCRIPTION:The BLS Provider course covers core material such as adult and pediatric CPR (including two-rescuer scenarios and use of the bag mask)\, foreign-body airway obstruction and automated external defibrillation. This course is for healthcare providers such as EMS personnel\, physician assistants\, doctors\, dentists\, nurses\, respiratory therapists\, and lifeguards who must have a credential (card) documenting successful completion of a Healthcare Provider CPR course. The AHAâ€™s new BLS Course has been updated to include science and education from the 2020 Guidelines Update for CPR and ECC. It teaches both single-rescuer and team basic life support skills for application in both prehospital and in-facility environments\, with a focus on high-quality CPR and team dynamics. The course replaces the BLS for Healthcare Providers course. \n-TWO YEAR CERTIFICATION \n-Course Length: Approx 2 Hours
URL:https://tristatetraining.lifesaversnetwork.com/event/aha-bls-provider-renewal-course-340507/
LOCATION:Tri-State Training – Ridley Ave\, 228 Ridley Ave\, Folsom\, PA\, 19033\, United States
END:VEVENT
BEGIN:VEVENT
DTSTART;TZID=America/New_York:20260410T100000
DTEND;TZID=America/New_York:20260410T130000
DTSTAMP:20260422T062220
CREATED:20260214T010005Z
LAST-MODIFIED:20260214T010005Z
UID:11060-1775815200-1775826000@tristatetraining.lifesaversnetwork.com
SUMMARY:AHA- BLS Provider (2025 Guidelines) / 340509
DESCRIPTION:The American Heart Association’s BLS course trains participants to promptly recognize several life-threatening emergencies\, give high-quality chest compressions\, deliver appropriate breaths and ventilations\, and provide early use of an AED. The course reflects science and education from the 2025 American Heart Association Guidelines for CPR and Emergency Cardiovascular Care (ECC). The course replaces the BLS Provider 2020 version. \nThe BLS Provider Course is designed for healthcare professionals and trained first responders who provide care to patients in a wide variety of settings\, as well as individuals enrolled in a healthcare training program. Upon successful completion of the course\, students receive a course completion eCard\, valid for two years. Please contact your employer to ensure that you are selecting the correct course. \n-TWO YEAR CERTIFICATION \nCourse Length: Approx 3-4 Hours
URL:https://tristatetraining.lifesaversnetwork.com/event/aha-bls-provider-2025-guidelines-340509/
LOCATION:Tri-State Training – Ridley Ave\, 228 Ridley Ave\, Folsom\, PA\, 19033\, United States
END:VEVENT
BEGIN:VEVENT
DTSTART;TZID=America/New_York:20260410T140000
DTEND;TZID=America/New_York:20260410T160000
DTSTAMP:20260422T062220
CREATED:20260214T010121Z
LAST-MODIFIED:20260214T010121Z
UID:11063-1775829600-1775836800@tristatetraining.lifesaversnetwork.com
SUMMARY:BLS- Skills Test Only / 340510
DESCRIPTION:The BLS Provider course covers core material such as adult and pediatric CPR (including two-rescuer scenarios and use of the bag mask)\, foreign-body airway obstruction and automated external defibrillation. This course is for healthcare providers such as EMS personnel\, physician assistants\, doctors\, dentists\, nurses\, respiratory therapists\, and lifeguards who must have a credential (card) documenting successful completion of a Healthcare Provider CPR course. The AHAâ€™s new BLS Course has been updated to include science and education from the 2015 Guidelines Update for CPR and ECC. It teaches both single-rescuer and team basic life support skills for application in both prehospital and in-facility environments\, with a focus on high-quality CPR and team dynamics. The course replaces the BLS for Healthcare Providers course.   \nSkills test only for those who are renewing there certification or have completed the online course
URL:https://tristatetraining.lifesaversnetwork.com/event/bls-skills-test-only-340510/
LOCATION:Tri-State Training – Ridley Ave\, 228 Ridley Ave\, Folsom\, PA\, 19033\, United States
END:VEVENT
BEGIN:VEVENT
DTSTART;TZID=America/New_York:20260414T183000
DTEND;TZID=America/New_York:20260414T213000
DTSTAMP:20260422T062220
CREATED:20260214T010610Z
LAST-MODIFIED:20260214T010610Z
UID:11065-1776191400-1776202200@tristatetraining.lifesaversnetwork.com
SUMMARY:AHA- BLS Provider (2025 Guidelines) / 340511
DESCRIPTION:The American Heart Association’s BLS course trains participants to promptly recognize several life-threatening emergencies\, give high-quality chest compressions\, deliver appropriate breaths and ventilations\, and provide early use of an AED. The course reflects science and education from the 2025 American Heart Association Guidelines for CPR and Emergency Cardiovascular Care (ECC). The course replaces the BLS Provider 2020 version. \nThe BLS Provider Course is designed for healthcare professionals and trained first responders who provide care to patients in a wide variety of settings\, as well as individuals enrolled in a healthcare training program. Upon successful completion of the course\, students receive a course completion eCard\, valid for two years. Please contact your employer to ensure that you are selecting the correct course. \n-TWO YEAR CERTIFICATION \nCourse Length: Approx 3-4 Hours
URL:https://tristatetraining.lifesaversnetwork.com/event/aha-bls-provider-2025-guidelines-340511/
LOCATION:Tri-State Training – Ridley Ave\, 228 Ridley Ave\, Folsom\, PA\, 19033\, United States
END:VEVENT
BEGIN:VEVENT
DTSTART;TZID=America/New_York:20260417T093000
DTEND;TZID=America/New_York:20260417T113000
DTSTAMP:20260422T062220
CREATED:20260214T010714Z
LAST-MODIFIED:20260214T010714Z
UID:11068-1776418200-1776425400@tristatetraining.lifesaversnetwork.com
SUMMARY:AHA- BLS Provider RENEWAL Course / 340512
DESCRIPTION:The BLS Provider course covers core material such as adult and pediatric CPR (including two-rescuer scenarios and use of the bag mask)\, foreign-body airway obstruction and automated external defibrillation. This course is for healthcare providers such as EMS personnel\, physician assistants\, doctors\, dentists\, nurses\, respiratory therapists\, and lifeguards who must have a credential (card) documenting successful completion of a Healthcare Provider CPR course. The AHAâ€™s new BLS Course has been updated to include science and education from the 2020 Guidelines Update for CPR and ECC. It teaches both single-rescuer and team basic life support skills for application in both prehospital and in-facility environments\, with a focus on high-quality CPR and team dynamics. The course replaces the BLS for Healthcare Providers course. \n-TWO YEAR CERTIFICATION \n-Course Length: Approx 2 Hours
URL:https://tristatetraining.lifesaversnetwork.com/event/aha-bls-provider-renewal-course-340512/
LOCATION:Tri-State Training – Ridley Ave\, 228 Ridley Ave\, Folsom\, PA\, 19033\, United States
END:VEVENT
BEGIN:VEVENT
DTSTART;TZID=America/New_York:20260418T100000
DTEND;TZID=America/New_York:20260418T110000
DTSTAMP:20260422T062220
CREATED:20251113T183757Z
LAST-MODIFIED:20251113T183757Z
UID:10619-1776506400-1776510000@tristatetraining.lifesaversnetwork.com
SUMMARY:Tri-State Fire Safety and Shelter in Place / 336755
DESCRIPTION:This course is for any business who requires fire safety training via a trained professional. This course is accepted by DHS and the PA Keys. \n1 year certification via digital certification
URL:https://tristatetraining.lifesaversnetwork.com/event/tri-state-fire-safety-and-shelter-in-place-336755/
LOCATION:Acclaim Academy – Germantown Ave\, 5615 Germantown Ave\, Philadelphia\, PA\, 19144\, United States
END:VEVENT
BEGIN:VEVENT
DTSTART;TZID=America/New_York:20260418T113000
DTEND;TZID=America/New_York:20260418T140000
DTSTAMP:20260422T062220
CREATED:20251223T172510Z
LAST-MODIFIED:20251223T172510Z
UID:10879-1776511800-1776520800@tristatetraining.lifesaversnetwork.com
SUMMARY:Tri-State Pediatric CPR/AED and First Aid / 338352
DESCRIPTION:This instructor-led course that teaches students critical skills needed to respond to and manage an emergency until emergency medical services arrives. Skills covered in this course include first aid; choking relief in children and infants; and what to do for sudden cardiac arrest in children and infants. \nThis course teaches skills with the AHAâ€™s research-proven practice-while-watching technique\, which allows instructors to observe the students\, provide feedback\, and guide the studentsâ€™ learning of skills. \n2 year certification via digital certification
URL:https://tristatetraining.lifesaversnetwork.com/event/tri-state-pediatric-cpr-aed-and-first-aid-338352/
LOCATION:Acclaim Academy – Germantown Ave\, 5615 Germantown Ave\, Philadelphia\, PA\, 19144\, United States
END:VEVENT
BEGIN:VEVENT
DTSTART;TZID=America/New_York:20260420T143000
DTEND;TZID=America/New_York:20260420T163000
DTSTAMP:20260422T062220
CREATED:20260214T010901Z
LAST-MODIFIED:20260214T010901Z
UID:11070-1776695400-1776702600@tristatetraining.lifesaversnetwork.com
SUMMARY:AHA- BLS Provider RENEWAL Course / 340513
DESCRIPTION:The BLS Provider course covers core material such as adult and pediatric CPR (including two-rescuer scenarios and use of the bag mask)\, foreign-body airway obstruction and automated external defibrillation. This course is for healthcare providers such as EMS personnel\, physician assistants\, doctors\, dentists\, nurses\, respiratory therapists\, and lifeguards who must have a credential (card) documenting successful completion of a Healthcare Provider CPR course. The AHAâ€™s new BLS Course has been updated to include science and education from the 2020 Guidelines Update for CPR and ECC. It teaches both single-rescuer and team basic life support skills for application in both prehospital and in-facility environments\, with a focus on high-quality CPR and team dynamics. The course replaces the BLS for Healthcare Providers course. \n-TWO YEAR CERTIFICATION \n-Course Length: Approx 2 Hours
URL:https://tristatetraining.lifesaversnetwork.com/event/aha-bls-provider-renewal-course-340513/
LOCATION:Tri-State Training – Ridley Ave\, 228 Ridley Ave\, Folsom\, PA\, 19033\, United States
END:VEVENT
BEGIN:VEVENT
DTSTART;TZID=America/New_York:20260421T100000
DTEND;TZID=America/New_York:20260421T110000
DTSTAMP:20260422T062220
CREATED:20260214T011017Z
LAST-MODIFIED:20260214T011017Z
UID:11072-1776765600-1776769200@tristatetraining.lifesaversnetwork.com
SUMMARY:BLS- Skills Test Only / 340514
DESCRIPTION:The BLS Provider course covers core material such as adult and pediatric CPR (including two-rescuer scenarios and use of the bag mask)\, foreign-body airway obstruction and automated external defibrillation. This course is for healthcare providers such as EMS personnel\, physician assistants\, doctors\, dentists\, nurses\, respiratory therapists\, and lifeguards who must have a credential (card) documenting successful completion of a Healthcare Provider CPR course. The AHAâ€™s new BLS Course has been updated to include science and education from the 2015 Guidelines Update for CPR and ECC. It teaches both single-rescuer and team basic life support skills for application in both prehospital and in-facility environments\, with a focus on high-quality CPR and team dynamics. The course replaces the BLS for Healthcare Providers course.   \nSkills test only for those who are renewing there certification or have completed the online course
URL:https://tristatetraining.lifesaversnetwork.com/event/bls-skills-test-only-340514/
LOCATION:Tri-State Training – Ridley Ave\, 228 Ridley Ave\, Folsom\, PA\, 19033\, United States
END:VEVENT
BEGIN:VEVENT
DTSTART;TZID=America/New_York:20260421T120000
DTEND;TZID=America/New_York:20260421T160000
DTSTAMP:20260422T062220
CREATED:20260214T011118Z
LAST-MODIFIED:20260214T011118Z
UID:11074-1776772800-1776787200@tristatetraining.lifesaversnetwork.com
SUMMARY:AHA- BLS Provider (2025 Guidelines) / 340515
DESCRIPTION:The American Heart Association’s BLS course trains participants to promptly recognize several life-threatening emergencies\, give high-quality chest compressions\, deliver appropriate breaths and ventilations\, and provide early use of an AED. The course reflects science and education from the 2025 American Heart Association Guidelines for CPR and Emergency Cardiovascular Care (ECC). The course replaces the BLS Provider 2020 version. \nThe BLS Provider Course is designed for healthcare professionals and trained first responders who provide care to patients in a wide variety of settings\, as well as individuals enrolled in a healthcare training program. Upon successful completion of the course\, students receive a course completion eCard\, valid for two years. Please contact your employer to ensure that you are selecting the correct course. \n-TWO YEAR CERTIFICATION \nCourse Length: Approx 3-4 Hours
URL:https://tristatetraining.lifesaversnetwork.com/event/aha-bls-provider-2025-guidelines-340515/
LOCATION:Tri-State Training – Ridley Ave\, 228 Ridley Ave\, Folsom\, PA\, 19033\, United States
END:VEVENT
BEGIN:VEVENT
DTSTART;TZID=America/New_York:20260422T183000
DTEND;TZID=America/New_York:20260422T210000
DTSTAMP:20260422T062220
CREATED:20251216T134132Z
LAST-MODIFIED:20251216T134132Z
UID:10813-1776882600-1776891600@tristatetraining.lifesaversnetwork.com
SUMMARY:Tri-State Pediatric CPR/AED and First Aid / 338067
DESCRIPTION:This instructor-led course that teaches students critical skills needed to respond to and manage an emergency until emergency medical services arrives. Skills covered in this course include first aid; choking relief in children and infants; and what to do for sudden cardiac arrest in children and infants. \nThis course teaches skills with the AHAâ€™s research-proven practice-while-watching technique\, which allows instructors to observe the students\, provide feedback\, and guide the studentsâ€™ learning of skills. \n2 year certification via digital certification
URL:https://tristatetraining.lifesaversnetwork.com/event/tri-state-pediatric-cpr-aed-and-first-aid-338067/
LOCATION:Tri-State Training – Ridley Ave\, 228 Ridley Ave\, Folsom\, PA\, 19033\, United States
END:VEVENT
BEGIN:VEVENT
DTSTART;TZID=America/New_York:20260423T090000
DTEND;TZID=America/New_York:20260423T110000
DTSTAMP:20260422T062220
CREATED:20260214T011221Z
LAST-MODIFIED:20260214T011221Z
UID:11077-1776934800-1776942000@tristatetraining.lifesaversnetwork.com
SUMMARY:AHA- BLS Provider RENEWAL Course / 340516
DESCRIPTION:The BLS Provider course covers core material such as adult and pediatric CPR (including two-rescuer scenarios and use of the bag mask)\, foreign-body airway obstruction and automated external defibrillation. This course is for healthcare providers such as EMS personnel\, physician assistants\, doctors\, dentists\, nurses\, respiratory therapists\, and lifeguards who must have a credential (card) documenting successful completion of a Healthcare Provider CPR course. The AHAâ€™s new BLS Course has been updated to include science and education from the 2020 Guidelines Update for CPR and ECC. It teaches both single-rescuer and team basic life support skills for application in both prehospital and in-facility environments\, with a focus on high-quality CPR and team dynamics. The course replaces the BLS for Healthcare Providers course. \n-TWO YEAR CERTIFICATION \n-Course Length: Approx 2 Hours
URL:https://tristatetraining.lifesaversnetwork.com/event/aha-bls-provider-renewal-course-340516/
LOCATION:Tri-State Training – Ridley Ave\, 228 Ridley Ave\, Folsom\, PA\, 19033\, United States
END:VEVENT
BEGIN:VEVENT
DTSTART;TZID=America/New_York:20260429T113000
DTEND;TZID=America/New_York:20260429T143000
DTSTAMP:20260422T062220
CREATED:20260214T011352Z
LAST-MODIFIED:20260214T011352Z
UID:11079-1777462200-1777473000@tristatetraining.lifesaversnetwork.com
SUMMARY:AHA- BLS Provider (2025 Guidelines) / 340517
DESCRIPTION:The American Heart Association’s BLS course trains participants to promptly recognize several life-threatening emergencies\, give high-quality chest compressions\, deliver appropriate breaths and ventilations\, and provide early use of an AED. The course reflects science and education from the 2025 American Heart Association Guidelines for CPR and Emergency Cardiovascular Care (ECC). The course replaces the BLS Provider 2020 version. \nThe BLS Provider Course is designed for healthcare professionals and trained first responders who provide care to patients in a wide variety of settings\, as well as individuals enrolled in a healthcare training program. Upon successful completion of the course\, students receive a course completion eCard\, valid for two years. Please contact your employer to ensure that you are selecting the correct course. \n-TWO YEAR CERTIFICATION \nCourse Length: Approx 3-4 Hours
URL:https://tristatetraining.lifesaversnetwork.com/event/aha-bls-provider-2025-guidelines-340517/
LOCATION:Tri-State Training – Ridley Ave\, 228 Ridley Ave\, Folsom\, PA\, 19033\, United States
END:VEVENT
BEGIN:VEVENT
DTSTART;TZID=America/New_York:20260429T160000
DTEND;TZID=America/New_York:20260429T180000
DTSTAMP:20260422T062220
CREATED:20260214T011453Z
LAST-MODIFIED:20260214T011453Z
UID:11082-1777478400-1777485600@tristatetraining.lifesaversnetwork.com
SUMMARY:AHA- BLS Provider RENEWAL Course / 340518
DESCRIPTION:The BLS Provider course covers core material such as adult and pediatric CPR (including two-rescuer scenarios and use of the bag mask)\, foreign-body airway obstruction and automated external defibrillation. This course is for healthcare providers such as EMS personnel\, physician assistants\, doctors\, dentists\, nurses\, respiratory therapists\, and lifeguards who must have a credential (card) documenting successful completion of a Healthcare Provider CPR course. The AHAâ€™s new BLS Course has been updated to include science and education from the 2020 Guidelines Update for CPR and ECC. It teaches both single-rescuer and team basic life support skills for application in both prehospital and in-facility environments\, with a focus on high-quality CPR and team dynamics. The course replaces the BLS for Healthcare Providers course. \n-TWO YEAR CERTIFICATION \n-Course Length: Approx 2 Hours
URL:https://tristatetraining.lifesaversnetwork.com/event/aha-bls-provider-renewal-course-340518/
LOCATION:Tri-State Training – Ridley Ave\, 228 Ridley Ave\, Folsom\, PA\, 19033\, United States
END:VEVENT
BEGIN:VEVENT
DTSTART;TZID=America/New_York:20260430T090000
DTEND;TZID=America/New_York:20260430T110000
DTSTAMP:20260422T062220
CREATED:20260402T154052Z
LAST-MODIFIED:20260402T154052Z
UID:11206-1777539600-1777546800@tristatetraining.lifesaversnetwork.com
SUMMARY:BLS Instructor- Initial Course / 340379
DESCRIPTION:The American Heart Association CPR Instructor Course is a three part course. \nPart one is the AHA Instructor Essentials course is completed on-line at home or work. The course contains information on planning and preparation for courses\, teaching courses\, conducting written exams (if applicable)\, skills practice and skills testing\, and keeping your instructor status current. Upon successful completion a completion certificate is generated and should be printed out and brought to your instructor course. The Instructor Essentials course takes between 1-4 hours to complete.  You will receive access to this course after registration. \nPart 2 two will be held at LifeSavers\, Inc in Fairfield\, NJ. Day two will cover information such as course organization\, policies of both the AHA and LifeSavers\, Inc\, card processing\, administration of a course\, advertising\, equipment cleaning\, changes in CPR and why they occur\, skills testing\, written test and more.  \nPart 3 involves being monitored teaching a course. This can be done during one of LifeSavers\, Inc many courses or you can be evaluated at your own facility (depending on location.) This evaluation must be done within 6 months after completion of part 2.  This part will be accomplished on the same day as part 2.   \nPlan to be at LifeSavers from 8am until 4pm to complete everything.  Lunch will be provided. \nIn addition to the steps above\, all participants must posses a valid/current “BLS Provider or Professional Level” certification card.  Students should have a good understanding of the BLS CPR curriculum and be able to pass a skills test and written exam.    \nOnce all steps are successfully completed\, the participant will become an American Heart Association BLS CPR Instructor and able to conduct classes on their own.  You must be over 18 to become an AHA instructor. \nThe class will start promptly at 8am.  If you are not able to make the course in time\, please contact us and we will gladly reschedule you. \nStudents will receive a BLS Instructor Manual included with their registration.
URL:https://tristatetraining.lifesaversnetwork.com/event/bls-instructor-initial-course-340379/
LOCATION:Tri-State Training – Ridley Ave\, 228 Ridley Ave\, Folsom\, PA\, 19033\, United States
END:VEVENT
BEGIN:VEVENT
DTSTART;TZID=America/New_York:20260501T110000
DTEND;TZID=America/New_York:20260501T130000
DTSTAMP:20260422T062220
CREATED:20260214T012138Z
LAST-MODIFIED:20260214T012138Z
UID:11084-1777633200-1777640400@tristatetraining.lifesaversnetwork.com
SUMMARY:AHA- BLS Provider RENEWAL Course / 340519
DESCRIPTION:The BLS Provider course covers core material such as adult and pediatric CPR (including two-rescuer scenarios and use of the bag mask)\, foreign-body airway obstruction and automated external defibrillation. This course is for healthcare providers such as EMS personnel\, physician assistants\, doctors\, dentists\, nurses\, respiratory therapists\, and lifeguards who must have a credential (card) documenting successful completion of a Healthcare Provider CPR course. The AHAâ€™s new BLS Course has been updated to include science and education from the 2020 Guidelines Update for CPR and ECC. It teaches both single-rescuer and team basic life support skills for application in both prehospital and in-facility environments\, with a focus on high-quality CPR and team dynamics. The course replaces the BLS for Healthcare Providers course. \n-TWO YEAR CERTIFICATION \n-Course Length: Approx 2 Hours
URL:https://tristatetraining.lifesaversnetwork.com/event/aha-bls-provider-renewal-course-340519/
LOCATION:Tri-State Training – Ridley Ave\, 228 Ridley Ave\, Folsom\, PA\, 19033\, United States
END:VEVENT
END:VCALENDAR